BEGIN:VCALENDAR
VERSION:2.0
PRODID:-//time.now/holidays//NONSGML v1.0//EN
BEGIN:VEVENT
UID:9d1ee3e5-1b22-4194-a042-bc2a481963f6
DTSTAMP:20260420T162145Z
DTSTART;VALUE=DATE:20260625
SUMMARY:Ashura (estimated) (Senegal)
END:VEVENT
END:VCALENDAR