BEGIN:VCALENDAR
VERSION:2.0
PRODID:-//time.now/holidays//NONSGML v1.0//EN
BEGIN:VEVENT
UID:1bbc6da9-0638-4e41-b73f-23fa021a1169
DTSTAMP:20260420T192853Z
DTSTART;VALUE=DATE:20260222
SUMMARY:Founding Day Holiday (Arabia Saudita)
END:VEVENT
END:VCALENDAR