BEGIN:VCALENDAR
VERSION:2.0
PRODID:-//time.now/holidays//NONSGML v1.0//EN
BEGIN:VEVENT
UID:77fc1664-5d19-4402-81c6-de8d69bdc665
DTSTAMP:20260421T021744Z
DTSTART;VALUE=DATE:20271231
SUMMARY:New Year's Day (observed) (Santo Tomé y Príncipe)
END:VEVENT
END:VCALENDAR