BEGIN:VCALENDAR
VERSION:2.0
PRODID:-//time.now/holidays//NONSGML v1.0//EN
BEGIN:VEVENT
UID:ae0a6835-2193-427e-97b1-e3a9eecb816f
DTSTAMP:20260424T162833Z
DTSTART;VALUE=DATE:20260203
SUMMARY:Martyrs' Day (Santo Tomé y Príncipe)
END:VEVENT
END:VCALENDAR