BEGIN:VCALENDAR
VERSION:2.0
PRODID:-//time.now/holidays//NONSGML v1.0//EN
BEGIN:VEVENT
UID:ee702cce-1aee-4dc9-aa70-0fcd1de7d49f
DTSTAMP:20260420T184739Z
DTSTART;VALUE=DATE:20261226
SUMMARY:Saint Stephen's Day (San Marino)
END:VEVENT
END:VCALENDAR