BEGIN:VCALENDAR
VERSION:2.0
PRODID:-//time.now/holidays//NONSGML v1.0//EN
BEGIN:VEVENT
UID:302ef07f-9d9f-4236-b751-17bc89c5ca7d
DTSTAMP:20260420T105201Z
DTSTART;VALUE=DATE:20261208
SUMMARY:Immaculate Conception Day (San Marino)
END:VEVENT
END:VCALENDAR