BEGIN:VCALENDAR
VERSION:2.0
PRODID:-//time.now/holidays//NONSGML v1.0//EN
BEGIN:VEVENT
UID:9f280bbb-9b78-41a1-b7c8-eb7f7fb30677
DTSTAMP:20260420T150640Z
DTSTART;VALUE=DATE:20260405
SUMMARY:Easter Sunday (San Marino)
END:VEVENT
END:VCALENDAR