BEGIN:VCALENDAR
VERSION:2.0
PRODID:-//time.now/holidays//NONSGML v1.0//EN
BEGIN:VEVENT
UID:3f475849-f25e-4b67-9314-e9fa3e3056e4
DTSTAMP:20260423T001229Z
DTSTART;VALUE=DATE:20261102
SUMMARY:Commemoration of the Dead (San Marino)
END:VEVENT
END:VCALENDAR