BEGIN:VCALENDAR
VERSION:2.0
PRODID:-//time.now/holidays//NONSGML v1.0//EN
BEGIN:VEVENT
UID:ceb2fd29-6f50-4964-9515-603628ecba52
DTSTAMP:20260420T215803Z
DTSTART;VALUE=DATE:20261224
SUMMARY:Christmas Eve (San Marino)
END:VEVENT
END:VCALENDAR