BEGIN:VCALENDAR
VERSION:2.0
PRODID:-//time.now/holidays//NONSGML v1.0//EN
BEGIN:VEVENT
UID:85e5ba29-df93-47c2-9923-b14d7044e3bc
DTSTAMP:20260420T170417Z
DTSTART;VALUE=DATE:20260815
SUMMARY:Assumption Day (San Marino)
END:VEVENT
END:VCALENDAR