BEGIN:VCALENDAR
VERSION:2.0
PRODID:-//time.now/holidays//NONSGML v1.0//EN
BEGIN:VEVENT
UID:e0166807-c93d-411a-b42a-f822b4eed1aa
DTSTAMP:20260420T213221Z
DTSTART;VALUE=DATE:20261101
SUMMARY:All Saints' Day (San Marino)
END:VEVENT
END:VCALENDAR