BEGIN:VCALENDAR
VERSION:2.0
PRODID:-//time.now/holidays//NONSGML v1.0//EN
BEGIN:VEVENT
UID:ef8ff03d-6e32-4fb9-a158-966188f55445
DTSTAMP:20260422T091125Z
DTSTART;VALUE=DATE:20261012
SUMMARY:White Sunday (Lotu a Tamaiti) (Samoa)
END:VEVENT
END:VCALENDAR