BEGIN:VCALENDAR
VERSION:2.0
PRODID:-//time.now/holidays//NONSGML v1.0//EN
BEGIN:VEVENT
UID:f2ee843a-e642-4f04-9865-0a2c05cc4098
DTSTAMP:20260420T061150Z
DTSTART;VALUE=DATE:20260101
SUMMARY:New Year's Day (Samoa)
END:VEVENT
END:VCALENDAR