BEGIN:VCALENDAR
VERSION:2.0
PRODID:-//time.now/holidays//NONSGML v1.0//EN
BEGIN:VEVENT
UID:dee77bd8-05dc-42e3-a098-9fd2f29620da
DTSTAMP:20260420T032526Z
DTSTART;VALUE=DATE:20260511
SUMMARY:Mother's Day (Samoa)
END:VEVENT
END:VCALENDAR