BEGIN:VCALENDAR
VERSION:2.0
PRODID:-//time.now/holidays//NONSGML v1.0//EN
BEGIN:VEVENT
UID:242481e2-8a13-476b-86f5-cc4e54b3dc61
DTSTAMP:20260422T223609Z
DTSTART;VALUE=DATE:20260525
SUMMARY:Whit Monday (Santa Lucía)
END:VEVENT
END:VCALENDAR