BEGIN:VCALENDAR
VERSION:2.0
PRODID:-//time.now/holidays//NONSGML v1.0//EN
BEGIN:VEVENT
UID:f89748cc-f30c-4ee3-bbcb-12b9fd027d78
DTSTAMP:20260420T201037Z
DTSTART;VALUE=DATE:20261005
SUMMARY:Thanksgiving Day (Santa Lucía)
END:VEVENT
END:VCALENDAR