BEGIN:VCALENDAR
VERSION:2.0
PRODID:-//time.now/holidays//NONSGML v1.0//EN
BEGIN:VEVENT
UID:7a79921d-a53f-40f9-9d10-be07db905440
DTSTAMP:20260422T090321Z
DTSTART;VALUE=DATE:20280103
SUMMARY:New Year's Holiday (observed) (Santa Lucía)
END:VEVENT
END:VCALENDAR