BEGIN:VCALENDAR
VERSION:2.0
PRODID:-//time.now/holidays//NONSGML v1.0//EN
BEGIN:VEVENT
UID:27771415-f4f1-455b-924d-91d57ce28c23
DTSTAMP:20260420T214542Z
DTSTART;VALUE=DATE:20340103
SUMMARY:New Year's Day (observed) (Santa Lucía)
END:VEVENT
END:VCALENDAR