BEGIN:VCALENDAR
VERSION:2.0
PRODID:-//time.now/holidays//NONSGML v1.0//EN
BEGIN:VEVENT
UID:f237afc2-ba61-45a6-a209-046627383c54
DTSTAMP:20260420T213512Z
DTSTART;VALUE=DATE:20261214
SUMMARY:National Day (observed) (Santa Lucía)
END:VEVENT
END:VCALENDAR