BEGIN:VCALENDAR
VERSION:2.0
PRODID:-//time.now/holidays//NONSGML v1.0//EN
BEGIN:VEVENT
UID:f76c29ba-b789-452a-9b65-7d9d8b29ac56
DTSTAMP:20260420T170711Z
DTSTART;VALUE=DATE:20260223
SUMMARY:Independence Day (observed) (Santa Lucía)
END:VEVENT
END:VCALENDAR