BEGIN:VCALENDAR
VERSION:2.0
PRODID:-//time.now/holidays//NONSGML v1.0//EN
BEGIN:VEVENT
UID:2e31bda2-cfef-4d2d-86cb-1b9bde537104
DTSTAMP:20260420T201931Z
DTSTART;VALUE=DATE:20260403
SUMMARY:Good Friday (San Cristóbal y Nieves)
END:VEVENT
END:VCALENDAR