BEGIN:VCALENDAR
VERSION:2.0
PRODID:-//time.now/holidays//NONSGML v1.0//EN
BEGIN:VEVENT
UID:2dcca9c1-51a9-4af1-83c3-5aae5bd74800
DTSTAMP:20260422T085546Z
DTSTART;VALUE=DATE:20261225
SUMMARY:Christmas Day (San Cristóbal y Nieves)
END:VEVENT
END:VCALENDAR