BEGIN:VCALENDAR
VERSION:2.0
PRODID:-//time.now/holidays//NONSGML v1.0//EN
BEGIN:VEVENT
UID:b8977dba-9058-4ded-b6ad-93477debaf9e
DTSTAMP:20260422T090803Z
DTSTART;VALUE=DATE:20331227
SUMMARY:Christmas Day (observed) (San Cristóbal y Nieves)
END:VEVENT
END:VCALENDAR