BEGIN:VCALENDAR
VERSION:2.0
PRODID:-//time.now/holidays//NONSGML v1.0//EN
BEGIN:VEVENT
UID:74ee2c57-d86f-45e3-a61b-0933bbf95368
DTSTAMP:20260420T200053Z
DTSTART;VALUE=DATE:20260612
SUMMARY:Russia Day (Rusia)
END:VEVENT
END:VCALENDAR