BEGIN:VCALENDAR
VERSION:2.0
PRODID:-//time.now/holidays//NONSGML v1.0//EN
BEGIN:VEVENT
UID:ac2321c6-e1f5-45e3-b839-c8ffe5053184
DTSTAMP:20260420T204532Z
DTSTART;VALUE=DATE:20260101
SUMMARY:New Year Holidays (Rusia)
END:VEVENT
END:VCALENDAR