BEGIN:VCALENDAR
VERSION:2.0
PRODID:-//time.now/holidays//NONSGML v1.0//EN
BEGIN:VEVENT
UID:68c9be71-3deb-4f47-9b94-31db0494ce7d
DTSTAMP:20260422T132442Z
DTSTART;VALUE=DATE:20260223
SUMMARY:Defender of the Fatherland Day (Rusia)
END:VEVENT
END:VCALENDAR