BEGIN:VCALENDAR
VERSION:2.0
PRODID:-//time.now/holidays//NONSGML v1.0//EN
BEGIN:VEVENT
UID:39e7c0c7-4e2e-4c95-bfbd-bbd56c4ee489
DTSTAMP:20260420T215016Z
DTSTART;VALUE=DATE:20240430
SUMMARY:Day off (substituted from 11/02/2024) (Rusia)
END:VEVENT
END:VCALENDAR