BEGIN:VCALENDAR
VERSION:2.0
PRODID:-//time.now/holidays//NONSGML v1.0//EN
BEGIN:VEVENT
UID:200589c4-a5bb-4a94-afff-f6f51ca751cd
DTSTAMP:20260422T133029Z
DTSTART;VALUE=DATE:20251103
SUMMARY:Day off (substituted from 11/01/2025) (Rusia)
END:VEVENT
END:VCALENDAR