BEGIN:VCALENDAR
VERSION:2.0
PRODID:-//time.now/holidays//NONSGML v1.0//EN
BEGIN:VEVENT
UID:17c97490-56e6-41c7-bfab-539bc0116460
DTSTAMP:20260420T081022Z
DTSTART;VALUE=DATE:20261130
SUMMARY:Saint Andrew's Day (Rumania)
END:VEVENT
END:VCALENDAR