BEGIN:VCALENDAR
VERSION:2.0
PRODID:-//time.now/holidays//NONSGML v1.0//EN
BEGIN:VEVENT
UID:0a4c37b7-688e-4a86-8283-391b387349ad
DTSTAMP:20260420T130633Z
DTSTART;VALUE=DATE:20261225
SUMMARY:Christmas Day (Rumania)
END:VEVENT
END:VCALENDAR