BEGIN:VCALENDAR
VERSION:2.0
PRODID:-//time.now/holidays//NONSGML v1.0//EN
BEGIN:VEVENT
UID:85c382e2-d56e-43bf-994c-10c4398ba3cd
DTSTAMP:20260420T162033Z
DTSTART;VALUE=DATE:20260601
SUMMARY:Children's Day; Pentecost (Rumania)
END:VEVENT
END:VCALENDAR