BEGIN:VCALENDAR
VERSION:2.0
PRODID:-//time.now/holidays//NONSGML v1.0//EN
BEGIN:VEVENT
UID:9f4e2429-535c-4ab9-88d3-b8cc43f276f4
DTSTAMP:20260420T192834Z
DTSTART;VALUE=DATE:20261218
SUMMARY:Qatar National Day (Catar)
END:VEVENT
END:VCALENDAR