BEGIN:VCALENDAR
VERSION:2.0
PRODID:-//time.now/holidays//NONSGML v1.0//EN
BEGIN:VEVENT
UID:44d5d1ef-269a-4cce-b6bb-dc5043b43dc1
DTSTAMP:20260420T162050Z
DTSTART;VALUE=DATE:20250330
SUMMARY:Eid al-Fitr (Catar)
END:VEVENT
END:VCALENDAR