BEGIN:VCALENDAR
VERSION:2.0
PRODID:-//time.now/holidays//NONSGML v1.0//EN
BEGIN:VEVENT
UID:36e23a7a-50b5-417d-b0a8-e22ba7a851c9
DTSTAMP:20260422T085658Z
DTSTART;VALUE=DATE:20260216
SUMMARY:Presidents' Day (Puerto Rico)
END:VEVENT
END:VCALENDAR