BEGIN:VCALENDAR
VERSION:2.0
PRODID:-//time.now/holidays//NONSGML v1.0//EN
BEGIN:VEVENT
UID:997cd6ce-2707-4b41-9be5-ebffd39d1d8e
DTSTAMP:20260420T214826Z
DTSTART;VALUE=DATE:20260101
SUMMARY:New Year's Day (Puerto Rico)
END:VEVENT
END:VCALENDAR