BEGIN:VCALENDAR
VERSION:2.0
PRODID:-//time.now/holidays//NONSGML v1.0//EN
BEGIN:VEVENT
UID:635bc69f-b029-4850-9044-5120ae20c593
DTSTAMP:20260424T162025Z
DTSTART;VALUE=DATE:20270618
SUMMARY:Juneteenth National Independence Day (observed) (Puerto Rico)
END:VEVENT
END:VCALENDAR