BEGIN:VCALENDAR
VERSION:2.0
PRODID:-//time.now/holidays//NONSGML v1.0//EN
BEGIN:VEVENT
UID:963db6ef-c35a-4776-bcaa-a9f5758ed9b5
DTSTAMP:20260420T194600Z
DTSTART;VALUE=DATE:20260703
SUMMARY:Independence Day (observed) (Puerto Rico)
END:VEVENT
END:VCALENDAR