BEGIN:VCALENDAR
VERSION:2.0
PRODID:-//time.now/holidays//NONSGML v1.0//EN
BEGIN:VEVENT
UID:5f09886d-6d90-4717-9089-be91aa5cfa74
DTSTAMP:20260420T004409Z
DTSTART;VALUE=DATE:20260106
SUMMARY:Epiphany (Puerto Rico)
END:VEVENT
END:VCALENDAR