BEGIN:VCALENDAR
VERSION:2.0
PRODID:-//time.now/holidays//NONSGML v1.0//EN
BEGIN:VEVENT
UID:1478c5c8-a6f4-4a86-88d9-cf9e161ea351
DTSTAMP:20260420T075937Z
DTSTART;VALUE=DATE:20260725
SUMMARY:Constitution Day (Puerto Rico)
END:VEVENT
END:VCALENDAR