BEGIN:VCALENDAR
VERSION:2.0
PRODID:-//time.now/holidays//NONSGML v1.0//EN
BEGIN:VEVENT
UID:68878c80-3e55-4c1a-8322-e2768c91b3aa
DTSTAMP:20260422T090036Z
DTSTART;VALUE=DATE:20260629
SUMMARY:Saint Peter's Day (Portugal)
END:VEVENT
END:VCALENDAR