BEGIN:VCALENDAR
VERSION:2.0
PRODID:-//time.now/holidays//NONSGML v1.0//EN
BEGIN:VEVENT
UID:540d1dd8-09d8-49c8-ae8c-89bab7c69bc2
DTSTAMP:20260422T085005Z
DTSTART;VALUE=DATE:20260704
SUMMARY:Saint Elizabeth's Day (Portugal)
END:VEVENT
END:VCALENDAR