BEGIN:VCALENDAR
VERSION:2.0
PRODID:-//time.now/holidays//NONSGML v1.0//EN
BEGIN:VEVENT
UID:be155127-adb0-4e1a-b310-cc93f76f6ea6
DTSTAMP:20260420T192058Z
DTSTART;VALUE=DATE:20260831
SUMMARY:National Heroes Day (Filipinas)
END:VEVENT
END:VCALENDAR