BEGIN:VCALENDAR
VERSION:2.0
PRODID:-//time.now/holidays//NONSGML v1.0//EN
BEGIN:VEVENT
UID:81378426-dc6b-4329-a01f-b6a15682253e
DTSTAMP:20260419T234117Z
DTSTART;VALUE=DATE:20260403
SUMMARY:Good Friday (Filipinas)
END:VEVENT
END:VCALENDAR