BEGIN:VCALENDAR
VERSION:2.0
PRODID:-//time.now/holidays//NONSGML v1.0//EN
BEGIN:VEVENT
UID:3b55f072-16b7-4d52-840a-2e55ff993597
DTSTAMP:20260420T143857Z
DTSTART;VALUE=DATE:20250512
SUMMARY:Elections special (non-working) day (Filipinas)
END:VEVENT
END:VCALENDAR