BEGIN:VCALENDAR
VERSION:2.0
PRODID:-//time.now/holidays//NONSGML v1.0//EN
BEGIN:VEVENT
UID:0e57a4ef-ba51-4038-ac4b-d429c02ba7fc
DTSTAMP:20260420T075755Z
DTSTART;VALUE=DATE:20250606
SUMMARY:Eid al-Adha (Filipinas)
END:VEVENT
END:VCALENDAR