BEGIN:VCALENDAR
VERSION:2.0
PRODID:-//time.now/holidays//NONSGML v1.0//EN
BEGIN:VEVENT
UID:4c6ff31a-5be8-4715-b6a2-3140e14843c4
DTSTAMP:20260420T080718Z
DTSTART;VALUE=DATE:20261225
SUMMARY:Christmas Day (Filipinas)
END:VEVENT
END:VCALENDAR