BEGIN:VCALENDAR
VERSION:2.0
PRODID:-//time.now/holidays//NONSGML v1.0//EN
BEGIN:VEVENT
UID:51a22a5b-7789-4778-b248-2469bce6c5ae
DTSTAMP:20260420T095230Z
DTSTART;VALUE=DATE:20260404
SUMMARY:Black Saturday (Filipinas)
END:VEVENT
END:VCALENDAR