BEGIN:VCALENDAR
VERSION:2.0
PRODID:-//time.now/holidays//NONSGML v1.0//EN
BEGIN:VEVENT
UID:52e7c3b4-112e-4bdd-81a1-a0ea4fe6f6d1
DTSTAMP:20260420T095941Z
DTSTART;VALUE=DATE:20260101
SUMMARY:New Year's Day (Perú)
END:VEVENT
END:VCALENDAR