BEGIN:VCALENDAR
VERSION:2.0
PRODID:-//time.now/holidays//NONSGML v1.0//EN
BEGIN:VEVENT
UID:5c3a9f40-8f04-4daa-917f-06ebad7a077b
DTSTAMP:20260420T130656Z
DTSTART;VALUE=DATE:20260402
SUMMARY:Maundy Thursday (Perú)
END:VEVENT
END:VCALENDAR