BEGIN:VCALENDAR
VERSION:2.0
PRODID:-//time.now/holidays//NONSGML v1.0//EN
BEGIN:VEVENT
UID:3802a8d8-da3e-486e-88ae-b7c8b63825f9
DTSTAMP:20260420T014957Z
DTSTART;VALUE=DATE:20260728
SUMMARY:Independence Day (Perú)
END:VEVENT
END:VCALENDAR